BEGIN:VCALENDAR
VERSION:2.0
PRODID:-//wp-events-plugin.com//7.2.3.1//EN
TZID:America/New_York
X-WR-TIMEZONE:America/New_York
BEGIN:VEVENT
UID:282@bluehillpeninsula.org
DTSTART;TZID=America/New_York:20160403T150000
DTEND;TZID=America/New_York:20160403T150000
DTSTAMP:20160105T152506Z
URL:https://bluehillpeninsula.org/events/vienna-piano-trio/
SUMMARY:Vienna Piano Trio
DESCRIPTION:Program:\nC. P. E. Bach       Piano Trio in C-Major   Wq 90
 /3\nSchoenberg         "Verklarte Nacht\, trio version by Steuermann\n
 ~~ intermission ~~\nBrahms               Pianotrio No. 1 in B-Major
 \, Op 8 (original version\, 1854)\n\nStefan Mendl\, piano\; David McCarrol
 l\, violin\; Matthias Gredler\, violoncello\n\nThe Vienna Piano Trio was o
 ne of the most noted ensembles of its type to emerge in the last decade of
  the 20th century. The trio is particularly successful in repertory by co
 mposers closely associated with Austria\, such as Brahms\, Schubert\, and 
 Haydn\, and with Dvorák\, who had close links with these composers. Its p
 laying exhibits the traditional Viennese sentimentality and is alert to th
 e nuances of the folk music traditions that appear in the works of all the
 se composers. It has toured extensively in northern Europe\, Britain\, Ita
 ly\, South Africa\, and the United States. During the 2006-2007 season\, t
 he trio began a residency at the Wiener Konzerthaus and in 2011\, it appea
 red again at the Amsterdam Concertgebouw. Later recordings included Haydn'
 s piano trios and a live effort on MDG in 2011.\n\nLink to the Vienna web 
 site: www.Viennapianotrio.com.   (also see and hear on youtube.com)
LOCATION:Blue Hill Congregational Church\, 22 Tenney Hill\, Blue Hill\, Mai
 ne\, 04614\, United States
GEO:44.411169;-68.59248200000002
X-APPLE-STRUCTURED-LOCATION;VALUE=URI;X-ADDRESS=22 Tenney Hill\, Blue Hill\
 , Maine\, 04614\, United States;X-APPLE-RADIUS=100;X-TITLE=Blue Hill Congr
 egational Church:geo:44.411169,-68.59248200000002
END:VEVENT
BEGIN:VTIMEZONE
TZID:America/New_York
X-LIC-LOCATION:America/New_York
BEGIN:DAYLIGHT
DTSTART:20160313T030000
TZOFFSETFROM:-0500
TZOFFSETTO:-0400
TZNAME:EDT
END:DAYLIGHT
END:VTIMEZONE
END:VCALENDAR