BEGIN:VCALENDAR
VERSION:2.0
PRODID:-//wp-events-plugin.com//7.2.3.1//EN
TZID:America/New_York
X-WR-TIMEZONE:America/New_York
BEGIN:VEVENT
UID:5077@bluehillpeninsula.org
DTSTART;TZID=America/New_York:20230302T000000
DTEND;TZID=America/New_York:20230330T000000
DTSTAMP:20230220T175854Z
URL:https://bluehillpeninsula.org/events/thursday-figure-drawing-class-3/
SUMMARY:Thursday Figure Drawing Class
DESCRIPTION:Thursday Figure Drawing\n\nThursdays in March\n\nMarch 2\, 9\, 
 16\, 23 &amp\; 30th\n\n12:00pm -3:00pm \n\nArtWaves 1345A Hwy 102 Town Hil
 l\,  Bar Harbor\n\nWhere the model is the star\, no instruction\, but plen
 ty of easels\, horses\, paper\, charcoal and fellow friendly artists. \n\n
 18 and over\, under 18 allowed with parental attendance!\n\n$15 per week o
 r members can register with $25 per month at a significant discount! \n\n\
 n\n\n\n\n\n\n\n\n\n\n\n
LOCATION:ArtWaves\, 1345a State highway 102\, Bar Harbor\, Maine\, 04609\, 
 Hancock\, United States
X-APPLE-STRUCTURED-LOCATION;VALUE=URI;X-ADDRESS=1345a State highway 102\, B
 ar Harbor\, Maine\, 04609\, Hancock\, United States;X-APPLE-RADIUS=100;X-T
 ITLE=ArtWaves:geo:0,0
END:VEVENT
BEGIN:VTIMEZONE
TZID:America/New_York
X-LIC-LOCATION:America/New_York
BEGIN:STANDARD
DTSTART:20221106T010000
TZOFFSETFROM:-0400
TZOFFSETTO:-0500
TZNAME:EST
END:STANDARD
BEGIN:DAYLIGHT
DTSTART:20230312T030000
TZOFFSETFROM:-0500
TZOFFSETTO:-0400
TZNAME:EDT
END:DAYLIGHT
END:VTIMEZONE
END:VCALENDAR