BEGIN:VCALENDAR
VERSION:2.0
PRODID:-//wp-events-plugin.com//7.2.3.1//EN
TZID:America/New_York
X-WR-TIMEZONE:America/New_York
BEGIN:VEVENT
UID:7386@bluehillpeninsula.org
DTSTART;TZID=America/New_York:20260322T163000
DTEND;TZID=America/New_York:20260322T190000
DTSTAMP:20260310T002258Z
URL:https://bluehillpeninsula.org/events/st-patricks-day-supper/
SUMMARY:St. Patrick's Day Supper
DESCRIPTION:We will be serving corned beef and cabbage with potatoes.  Dess
 ert and drink are included.  $10 per perso or $30 for a family.  Children 
 under 8 eat free.  There will be a surprise speaker.
LOCATION:Halcyon Grange #345\, 1157 Pleasant Street\, Blue Hill\, Maine\, 0
 4614\, United States
X-APPLE-STRUCTURED-LOCATION;VALUE=URI;X-ADDRESS=1157 Pleasant Street\, Blue
  Hill\, Maine\, 04614\, United States;X-APPLE-RADIUS=100;X-TITLE=Halcyon G
 range #345:geo:0,0
END:VEVENT
BEGIN:VTIMEZONE
TZID:America/New_York
X-LIC-LOCATION:America/New_York
BEGIN:DAYLIGHT
DTSTART:20260308T030000
TZOFFSETFROM:-0500
TZOFFSETTO:-0400
TZNAME:EDT
END:DAYLIGHT
END:VTIMEZONE
END:VCALENDAR