BEGIN:VCALENDAR
VERSION:2.0
PRODID:-//wp-events-plugin.com//7.2.3.1//EN
TZID:America/New_York
X-WR-TIMEZONE:America/New_York
BEGIN:VEVENT
UID:2040@bluehillpeninsula.org
DTSTART;TZID=America/New_York:20180719T190000
DTEND;TZID=America/New_York:20180719T190000
DTSTAMP:20180709T141008Z
URL:https://bluehillpeninsula.org/events/sowing-seeds-in-haiti/
SUMMARY:Sowing Seeds in Haiti
DESCRIPTION:Lee Lee Leonard of the SEED Barn in South Blue Hill will speak 
 about her work in Haiti\, building and supporting seed preservation and ex
 change\, urban gardens\, and creative works around seeds by Haitian artist
 s\, on Thursday\, July 19th at 7:00 PM at the Blue Hill Public Library. Th
 e work includes preserving seeds from traditional Haitian crops to help en
 sure food security\, and establishing a “seed library.” The project al
 so includes support of related artwork by Haitian artists\, some of which 
 will be on display during the talk.\n\nLeonard founded the SEED Barn to en
 gage a network of schools and land stewards at the intersection of art and
  ecology to promote long term habitat restoration\, in Blue Hill and aroun
 d the world. For more information\, contact the library at 374-5515.
LOCATION:Blue Hill Public Library\, 5 Parker Point Rd\, Blue Hill\, ME\, 04
 614\, United States
GEO:44.4118843;-68.5900689
X-APPLE-STRUCTURED-LOCATION;VALUE=URI;X-ADDRESS=5 Parker Point Rd\, Blue Hi
 ll\, ME\, 04614\, United States;X-APPLE-RADIUS=100;X-TITLE=Blue Hill Publi
 c Library:geo:44.4118843,-68.5900689
END:VEVENT
BEGIN:VTIMEZONE
TZID:America/New_York
X-LIC-LOCATION:America/New_York
BEGIN:DAYLIGHT
DTSTART:20180311T030000
TZOFFSETFROM:-0500
TZOFFSETTO:-0400
TZNAME:EDT
END:DAYLIGHT
END:VTIMEZONE
END:VCALENDAR