BEGIN:VCALENDAR
VERSION:2.0
PRODID:-//wp-events-plugin.com//7.2.3.1//EN
TZID:America/New_York
X-WR-TIMEZONE:America/New_York
BEGIN:VEVENT
UID:7370@bluehillpeninsula.org
DTSTART;TZID=America/New_York:20260320T173000
DTEND;TZID=America/New_York:20260320T200000
DTSTAMP:20260305T023113Z
URL:https://bluehillpeninsula.org/events/sip-and-art-creating-custom-mugs-
 with-a-disublimation-press/
SUMMARY:Sip and Art : Creating Custom Mugs with a Disublimation Press
DESCRIPTION:Here is  a beginner-friendly evening workshop to pair with your
  favorite local beverage. BYOB!\n\nLearn how marker drawings can be transf
 erred onto ceramic mugs with the help of a cylindrical heat press. We will
  use markers and paper that transfer directly to the surface of prepared c
 eramic mugs. Each student will receive two mugs to experiment with. We wil
 l use our time together drawing and perfecting our designs\, and will conc
 lude the workshop by pressing each mug\, making a microwave and dishwasher
  safe piece of functional art. \n\nAll materials\, 2 mugs\, special marker
 s\, general merriment\, and sublimation papers will be provided.  Just bri
 ng your creative spirit and your favorite beer or wine to enjoy as you cra
 ft or enjoy ArtWaves tea selection.  https://www.artwavesmdi.org/event-658
 9074
LOCATION:ArtWaves\, 1345-A State Highway 102\, Bar Harbor\, Maine\, 04609\,
  United States
GEO:44.3995574;-68.3350489
X-APPLE-STRUCTURED-LOCATION;VALUE=URI;X-ADDRESS=1345-A State Highway 102\, 
 Bar Harbor\, Maine\, 04609\, United States;X-APPLE-RADIUS=100;X-TITLE=ArtW
 aves:geo:44.3995574,-68.3350489
END:VEVENT
BEGIN:VTIMEZONE
TZID:America/New_York
X-LIC-LOCATION:America/New_York
BEGIN:DAYLIGHT
DTSTART:20260308T030000
TZOFFSETFROM:-0500
TZOFFSETTO:-0400
TZNAME:EDT
END:DAYLIGHT
END:VTIMEZONE
END:VCALENDAR