BEGIN:VCALENDAR
VERSION:2.0
PRODID:-//wp-events-plugin.com//7.2.3.1//EN
TZID:America/New_York
X-WR-TIMEZONE:America/New_York
BEGIN:VEVENT
UID:639@bluehillpeninsula.org
DTSTART;TZID=America/New_York:20160917T180000
DTEND;TZID=America/New_York:20160917T210000
DTSTAMP:20160823T143018Z
URL:https://bluehillpeninsula.org/events/september-supper-club-dinner/
SUMMARY:September Supper Club dinner
DESCRIPTION:We will start out with some tasty vittles on the porch\, and th
 en get settled in the barn for a sumptuous multi-course feast. We'll pla
 y the same vaguely-Latino iTunes playlist we have been playing for 10 year
 s (which none of you have ever noticed is the same every time!) that we pl
 ay in the Supper Clubs back at the taqueria. We'll have the same gracious-
 yet-unhurried service\, and share the general conviviality that have made 
 these dinners so much fun for so many winters. And it will (should) be wel
 l above freezing!\n\nSO\, call us right now at\n207.359.2486\nto make a re
 servation
LOCATION:El El Frijoles\, 41 Caterpillar Hill Rd\, Sargentville \, ME\, 046
 73\, United States
GEO:44.3058799;-68.6711393
X-APPLE-STRUCTURED-LOCATION;VALUE=URI;X-ADDRESS=41 Caterpillar Hill Rd\, Sa
 rgentville \, ME\, 04673\, United States;X-APPLE-RADIUS=100;X-TITLE=El El 
 Frijoles:geo:44.3058799,-68.6711393
END:VEVENT
BEGIN:VTIMEZONE
TZID:America/New_York
X-LIC-LOCATION:America/New_York
BEGIN:DAYLIGHT
DTSTART:20160313T030000
TZOFFSETFROM:-0500
TZOFFSETTO:-0400
TZNAME:EDT
END:DAYLIGHT
END:VTIMEZONE
END:VCALENDAR