BEGIN:VCALENDAR
VERSION:2.0
PRODID:-//wp-events-plugin.com//7.2.3.1//EN
TZID:America/New_York
X-WR-TIMEZONE:America/New_York
BEGIN:VEVENT
UID:652@bluehillpeninsula.org
DTSTART;TZID=America/New_York:20160912T190000
DTEND;TZID=America/New_York:20160912T210000
DTSTAMP:20160906T133112Z
URL:https://bluehillpeninsula.org/events/satb-punches-up-movie-night/
SUMMARY:SATB "Punches Up" Movie Night
DESCRIPTION:Work out your frustrations\, create art and see a movie \, all 
 in one night\nat 7 p.m. Monday\, Sept. 12 at Surry Arts at the Barn. SATB 
 shows "Cutie and The Boxer". a documentary about\nthe chaotic marriage of 
 "boxing" artist Ushio Shinohara and his wife Noriko. Ushio dips boxing glo
 ves in paint then\npunches his canvass in order to make his art. You get a
  chance to do the same during the show's intermission.\nCall 207-667-1308 
 for more info. Admission is $5.
LOCATION:surry arts at the barn\, 8 Cross Road\, surry\, Maine\, 04684\, ha
 ncock county\, United States
GEO:44.4588279;-68.48413800000003
X-APPLE-STRUCTURED-LOCATION;VALUE=URI;X-ADDRESS=8 Cross Road\, surry\, Main
 e\, 04684\, hancock county\, United States;X-APPLE-RADIUS=100;X-TITLE=surr
 y arts at the barn:geo:44.4588279,-68.48413800000003
END:VEVENT
BEGIN:VTIMEZONE
TZID:America/New_York
X-LIC-LOCATION:America/New_York
BEGIN:DAYLIGHT
DTSTART:20160313T030000
TZOFFSETFROM:-0500
TZOFFSETTO:-0400
TZNAME:EDT
END:DAYLIGHT
END:VTIMEZONE
END:VCALENDAR