BEGIN:VCALENDAR
VERSION:2.0
PRODID:-//wp-events-plugin.com//7.2.3.1//EN
TZID:America/New_York
X-WR-TIMEZONE:America/New_York
BEGIN:VEVENT
UID:643@bluehillpeninsula.org
DTSTART;TZID=America/New_York:20160910T170000
DTEND;TZID=America/New_York:20160910T190000
DTSTAMP:20160829T164620Z
URL:https://bluehillpeninsula.org/events/reflections-observations-and-the-
 seasons-of-blue-hill-mountain-a-talk-by-rob-mccall/
SUMMARY:Reflections\, Observations and the Seasons of Blue Hill Mountain- a
  talk by Rob McCall
DESCRIPTION:Join our friend Rob McCall for a talk on a place he knows well-
  Blue Hill Mountain. Rob will share images\, reflections and observations 
 through the seasons from his countless hikes up the mountain. Please come 
 with your own stories\, observations and questions about this iconic place
 .\n\nThe talk will be followed by a brief reception with refreshments. Rob
  will also have his book on hand for purchase and signing.\n\nBlue Hill Pu
 blic Library’s Howard Room on September 10th at 5pm.\n\nNo need to prere
 gister.
ATTACH;FMTTYPE=image/jpeg:https://bluehillpeninsula.org/wp-content/uploads
 /2016/08/Climbing-One-Mtn-a-Thousand-TImes-Image-sm.jpg
LOCATION:Blue Hill Public Library\, Parker Point Rd\, Blue Hill\, ME\, 0461
 4\, United States
GEO:44.409937892058096;-68.59005239592284
X-APPLE-STRUCTURED-LOCATION;VALUE=URI;X-ADDRESS=Parker Point Rd\, Blue Hill
 \, ME\, 04614\, United States;X-APPLE-RADIUS=100;X-TITLE=Blue Hill Public 
 Library:geo:44.409937892058096,-68.59005239592284
END:VEVENT
BEGIN:VTIMEZONE
TZID:America/New_York
X-LIC-LOCATION:America/New_York
BEGIN:DAYLIGHT
DTSTART:20160313T030000
TZOFFSETFROM:-0500
TZOFFSETTO:-0400
TZNAME:EDT
END:DAYLIGHT
END:VTIMEZONE
END:VCALENDAR