BEGIN:VCALENDAR
VERSION:2.0
PRODID:-//wp-events-plugin.com//7.2.3.1//EN
TZID:America/New_York
X-WR-TIMEZONE:America/New_York
BEGIN:VEVENT
UID:5764@bluehillpeninsula.org
DTSTART;TZID=America/New_York:20240615T100000
DTEND;TZID=America/New_York:20240615T170000
DTSTAMP:20240530T010938Z
URL:https://bluehillpeninsula.org/events/peninsula-pride/
SUMMARY:Peninsula Pride
DESCRIPTION:The Blue Hill Peninsula is celebrating Pride during the week of
  June 10-15\, with displays\, events\, and activities throughout the week.
  Local businesses in Blue Hill and around the peninsula will be creating d
 isplays and offering promotions throughout the week\, so keep your eyes pe
 eled for rainbows all around\, celebrating and affirming community members
  of all genders and sexualities.\n\nA family-friendly celebration will be 
 held on Saturday\, June 15th\, from 10:00 AM to 1:00 PM at the First Congr
 egational Church of Blue Hill at 22 Tenney Hill. Festivities will feature 
 free food\, live music\, and a rainbow of activities for kids and teens! C
 elebrate the LGBTQIA+ community with this all-ages event including crafts\
 , giveaways\, and opportunities for advocacy. Decorate a pride flag or cre
 ate a rainbow ribbon-dancer\, enjoy a hummus wrap or hot dog\, and win pri
 zes donated by local businesses and organizations.\n\nAt the conclusion of
  the celebration at 1 PM\, everyone is invited to join in a sidewalk march
  from the church to the town park. Bring along signs and wear your best Pr
 ide regalia to show your support for the queer community.\n\nAdults are in
 vited to stop in for a drink at Devil’s Half Acre\, 14 Mill Street in Bl
 ue Hill\, to continue socializing and enjoy a curated Pride playlist betwe
 en 2-5 PM.\n\nAll activities are free of charge\, though donations to supp
 ort Pride events will be accepted. Peninsula Pride is a community-organize
 d event sponsored by local businesses and organizations. We particularly w
 ish to thank the First Congregational Church of Blue Hill and WERU for the
 ir support. For more information\, please contact bluehillpeninsulapride@g
 mail.com.
LOCATION:First Congregational Church of Blue Hill\, 22 Tenney Hill\, Blue H
 ill\, Maine\, 04614\, United States
GEO:44.4111688;-68.59248179999997
X-APPLE-STRUCTURED-LOCATION;VALUE=URI;X-ADDRESS=22 Tenney Hill\, Blue Hill\
 , Maine\, 04614\, United States;X-APPLE-RADIUS=100;X-TITLE=First Congregat
 ional Church of Blue Hill:geo:44.4111688,-68.59248179999997
END:VEVENT
BEGIN:VTIMEZONE
TZID:America/New_York
X-LIC-LOCATION:America/New_York
BEGIN:DAYLIGHT
DTSTART:20240310T030000
TZOFFSETFROM:-0500
TZOFFSETTO:-0400
TZNAME:EDT
END:DAYLIGHT
END:VTIMEZONE
END:VCALENDAR