BEGIN:VCALENDAR
VERSION:2.0
PRODID:-//wp-events-plugin.com//7.2.3.1//EN
TZID:America/New_York
X-WR-TIMEZONE:America/New_York
BEGIN:VEVENT
UID:4463@bluehillpeninsula.org
DTSTART;TZID=America/New_York:20220430T100000
DTEND;TZID=America/New_York:20220501T160000
DTSTAMP:20220324T005516Z
URL:https://bluehillpeninsula.org/events/open-pottery-studios/
SUMMARY:Open Pottery Studios
DESCRIPTION:Open studios will be held at EC Ceramics and Lansing Wagner Stu
 dio in E. Blue Hill and Brooklin Pottery Co-op and Random Pottery in Brook
 lin as part of the Maine Pottery Pottery Tour. A good time to pick up uniq
 ue wedding or Mother's Day presents. See map at https://www.mainepotteryto
 ur.org.
ATTACH;FMTTYPE=image/jpeg:https://bluehillpeninsula.org/wp-content/uploads
 /2022/03/MPT-2022-1.jpeg
END:VEVENT
BEGIN:VTIMEZONE
TZID:America/New_York
X-LIC-LOCATION:America/New_York
BEGIN:DAYLIGHT
DTSTART:20220313T030000
TZOFFSETFROM:-0500
TZOFFSETTO:-0400
TZNAME:EDT
END:DAYLIGHT
END:VTIMEZONE
END:VCALENDAR