BEGIN:VCALENDAR
VERSION:2.0
PRODID:-//wp-events-plugin.com//7.2.3.1//EN
TZID:America/New_York
X-WR-TIMEZONE:America/New_York
BEGIN:VEVENT
UID:1707@bluehillpeninsula.org
DTSTART;TZID=America/New_York:20180728T100000
DTEND;TZID=America/New_York:20180728T160000
DTSTAMP:20180305T131031Z
URL:https://bluehillpeninsula.org/events/open-garden-day/
SUMMARY:Open Garden Day
DESCRIPTION:The Garden Club of Mount Desert is hosting Open Garden Day. The
 re will be six Private Gardens.Tickets are $45\, or $40 in advance on our 
 website www.gardenclubofmountdesert.org or at McGrath's and the Northeast 
 Harbor Library in Northeast Harbor\, the Southwest Harbor Chamber of Comme
 rce and Sherman's Books in Bar Harbor. 100% of the proceeds benefit Maine 
 Horticultural and Environmental Organizations. Rain or Shine.
LOCATION:Six Private Gardens\, Northeast Harbor\, Northeast Harbor\, Maine\
 , 04662\, United States
GEO:44.2942813;-68.29032339999998
X-APPLE-STRUCTURED-LOCATION;VALUE=URI;X-ADDRESS=Northeast Harbor\, Northeas
 t Harbor\, Maine\, 04662\, United States;X-APPLE-RADIUS=100;X-TITLE=Six Pr
 ivate Gardens:geo:44.2942813,-68.29032339999998
END:VEVENT
BEGIN:VTIMEZONE
TZID:America/New_York
X-LIC-LOCATION:America/New_York
BEGIN:DAYLIGHT
DTSTART:20180311T030000
TZOFFSETFROM:-0500
TZOFFSETTO:-0400
TZNAME:EDT
END:DAYLIGHT
END:VTIMEZONE
END:VCALENDAR