BEGIN:VCALENDAR
VERSION:2.0
PRODID:-//wp-events-plugin.com//7.2.3.1//EN
TZID:America/New_York
X-WR-TIMEZONE:America/New_York
BEGIN:VEVENT
UID:2479@bluehillpeninsula.org
DTSTART;TZID=America/New_York:20190213T183000
DTEND;TZID=America/New_York:20190213T203000
DTSTAMP:20190204T150127Z
URL:https://bluehillpeninsula.org/events/new-blue-hill-community-issues-fo
 rum-home-safety-challenges-on-the-peninsula/
SUMMARY:New Blue Hill Community Issues Forum:  Home Safety Challenges on th
 e Peninsula
DESCRIPTION:The Blue Hill Public Library is starting a new monthly series o
 f discussions on issues affecting our community\, the state and the world:
  the “Blue Hill Community Issues Forum.” The series will be organized 
 and moderated by retired history professor\, Dr. Gregory Bush\, with the g
 oal of stimulating in-person civic dialogue about important but sometimes 
 overlooked issues on the Blue Hill Peninsula\, in Maine and across the nat
 ion. Events will be streamed online via Facebook\, with additional pre-eve
 nt information and a post-event blog provided at www.sites.google.com/view
 /bluehillforum.\nThe first event in this series will be on Wednesday\, Feb
 ruary 13 at 6:30 PM\, a panel discussion on the topic “Home Safety Chall
 enges on the Peninsula.” This forum will examine issues of crime\, fire 
 safety\, and aging in place as they impact households on the Blue Hill Pen
 insula. Including local experts and longtime residents\, panelists will as
 sess the dangers\, resources\, and unique challenges of our rural/small to
 wn area. Members of the audience are encouraged to bring their own perspec
 tives and speak out after the initial presentations.\nSpeakers include Sco
 tt Kane\, Hancock County Sheriff\; Denny Robertson\, former Blue Hill Fire
  Chief\, Harbor Master\; Ann Schroth\, Program Coordinator\, Healthy Penin
 sula\; and Kara Janes LMSW\, Program Manager\, At Home. This event is spon
 sored by the library\, and is free and open to everyone. For more informat
 ion contact the library at 374-5515.
LOCATION:Blue Hill Public Library\, 5 Parker Point Rd\, Blue Hill\, United 
 States
GEO:44.41185309999999;-68.59004779999998
X-APPLE-STRUCTURED-LOCATION;VALUE=URI;X-ADDRESS=5 Parker Point Rd\, Blue Hi
 ll\, United States;X-APPLE-RADIUS=100;X-TITLE=Blue Hill Public Library:geo
 :44.41185309999999,-68.59004779999998
END:VEVENT
BEGIN:VTIMEZONE
TZID:America/New_York
X-LIC-LOCATION:America/New_York
BEGIN:STANDARD
DTSTART:20181104T010000
TZOFFSETFROM:-0400
TZOFFSETTO:-0500
TZNAME:EST
END:STANDARD
END:VTIMEZONE
END:VCALENDAR