BEGIN:VCALENDAR
VERSION:2.0
PRODID:-//wp-events-plugin.com//7.2.3.1//EN
TZID:America/New_York
X-WR-TIMEZONE:America/New_York
BEGIN:VEVENT
UID:6881@bluehillpeninsula.org
DTSTART;TZID=America/New_York:20250503T100000
DTEND;TZID=America/New_York:20250504T170000
DTSTAMP:20250401T005519Z
URL:https://bluehillpeninsula.org/events/maine-pottery-tour-3/
SUMMARY:Maine Pottery Tour
DESCRIPTION:Visit Over 80 Studios Across Maine\n\nHit the road for the Main
 e Pottery Tour – a self-guided adventure through the heart of Maine’s 
 vibrant pottery scene!\n\nWhether you're a collector\, a curious wanderer\
 , or just love shopping for unique handmade things\, this is your weekend 
 to explore\, connect\, and be inspired.\n\nGrab your map\, bring your frie
 nds\, and make a day (or two!) of it.\nPlan Your Tour on MainePotteryTour.
 org\n\nSaturday\, May 3rd from 10am-5pm\nSunday May 4th from 11am-4pm\n
END:VEVENT
BEGIN:VTIMEZONE
TZID:America/New_York
X-LIC-LOCATION:America/New_York
BEGIN:DAYLIGHT
DTSTART:20250309T030000
TZOFFSETFROM:-0500
TZOFFSETTO:-0400
TZNAME:EDT
END:DAYLIGHT
END:VTIMEZONE
END:VCALENDAR