BEGIN:VCALENDAR
VERSION:2.0
PRODID:-//wp-events-plugin.com//7.2.3.1//EN
TZID:America/New_York
X-WR-TIMEZONE:America/New_York
BEGIN:VEVENT
UID:5649@bluehillpeninsula.org
DTSTART;TZID=America/New_York:20240504T100000
DTEND;TZID=America/New_York:20240505T170000
DTSTAMP:20240328T003633Z
URL:https://bluehillpeninsula.org/events/maine-pottery-tour-2024/
SUMMARY:Maine Pottery Tour 2024
DESCRIPTION:The Maine Pottery Tour is an open studio event with sites all o
 ver the state of Maine. There are several local potters in their Downeast 
 section. See where the work is produced. Find unique gifts to purchase or 
 buy something for yourself. Check out our website Maine Pottery Tour
ATTACH;FMTTYPE=image/jpeg:https://bluehillpeninsula.org/wp-content/uploads
 /2024/03/smallwhales-mpt.jpg
END:VEVENT
BEGIN:VTIMEZONE
TZID:America/New_York
X-LIC-LOCATION:America/New_York
BEGIN:DAYLIGHT
DTSTART:20240310T030000
TZOFFSETFROM:-0500
TZOFFSETTO:-0400
TZNAME:EDT
END:DAYLIGHT
END:VTIMEZONE
END:VCALENDAR