BEGIN:VCALENDAR
VERSION:2.0
PRODID:-//wp-events-plugin.com//7.2.3.1//EN
TZID:America/New_York
X-WR-TIMEZONE:America/New_York
BEGIN:VEVENT
UID:2213@bluehillpeninsula.org
DTSTART;TZID=America/New_York:20180930T130000
DTEND;TZID=America/New_York:20180930T150000
DTSTAMP:20180924T131129Z
URL:https://bluehillpeninsula.org/events/live-theatre-auditions-alice-thro
 ugh-the-looking-glass-2018-09-30/
SUMMARY:Live Theatre Auditions: Alice: Through the Looking Glass
DESCRIPTION:The Grand is excited to announce that the auditions for its new
  production of Grand Executive Director Nick Turner's adaptation of Lewis 
 Carroll's “Alice: Through the Looking Glass\,” will be held Saturday\,
  September 29th from 1:00 pm- 3:00 pm and Sunday\, September 30th from 1:0
 0 pm- 3:00 pm. The production\, live on the Stanley Subaru Stage\, is dire
 cted by Grand Education Director Jasmine Ireland and runs over two weekend
 s beginning November 16th through November 25th\, 2018. For more informati
 on on this or other Grand events\, please call the box office at 207-667-9
 500 or visit The Grand website at www.grandonline.org or follow us on Face
 book.
LOCATION:The Grand\, 165 Main Street\, Ellsworth\, Maine\, 04605\, United S
 tates
GEO:44.5416615;-68.42274659999998
X-APPLE-STRUCTURED-LOCATION;VALUE=URI;X-ADDRESS=165 Main Street\, Ellsworth
 \, Maine\, 04605\, United States;X-APPLE-RADIUS=100;X-TITLE=The Grand:geo:
 44.5416615,-68.42274659999998
END:VEVENT
BEGIN:VTIMEZONE
TZID:America/New_York
X-LIC-LOCATION:America/New_York
BEGIN:DAYLIGHT
DTSTART:20180311T030000
TZOFFSETFROM:-0500
TZOFFSETTO:-0400
TZNAME:EDT
END:DAYLIGHT
END:VTIMEZONE
END:VCALENDAR