BEGIN:VCALENDAR
VERSION:2.0
PRODID:-//wp-events-plugin.com//7.2.3.1//EN
TZID:America/New_York
X-WR-TIMEZONE:America/New_York
BEGIN:VEVENT
UID:5198@bluehillpeninsula.org
DTSTART;TZID=America/New_York:20230922T190000
DTEND;TZID=America/New_York:20230922T203000
DTSTAMP:20230425T203014Z
URL:https://bluehillpeninsula.org/events/live-music-the-harborside-trio/
SUMMARY:Live Music | The Harborside Trio
DESCRIPTION:Come see the Harborside Trio perform live in an iconic\, coasta
 l Maine Barn! 
LOCATION:Surry Arts and Events at the Barn\, 8 Cross Road\, Surry\, ME\, 04
 684\, United States
GEO:44.4588279;-68.48413800000003
X-APPLE-STRUCTURED-LOCATION;VALUE=URI;X-ADDRESS=8 Cross Road\, Surry\, ME\,
  04684\, United States;X-APPLE-RADIUS=100;X-TITLE=Surry Arts and Events at
  the Barn:geo:44.4588279,-68.48413800000003
END:VEVENT
BEGIN:VTIMEZONE
TZID:America/New_York
X-LIC-LOCATION:America/New_York
BEGIN:DAYLIGHT
DTSTART:20230312T030000
TZOFFSETFROM:-0500
TZOFFSETTO:-0400
TZNAME:EDT
END:DAYLIGHT
END:VTIMEZONE
END:VCALENDAR