BEGIN:VCALENDAR
VERSION:2.0
PRODID:-//wp-events-plugin.com//7.2.3.1//EN
TZID:America/New_York
X-WR-TIMEZONE:America/New_York
BEGIN:VEVENT
UID:7413@bluehillpeninsula.org
DTSTART;TZID=America/New_York:20260328T100000
DTEND;TZID=America/New_York:20260328T123000
DTSTAMP:20260320T010852Z
URL:https://bluehillpeninsula.org/events/lino-cut-printing-on-fabric/
SUMMARY:Lino-Cut Printing On Fabric!
DESCRIPTION:Lino-Cut Printing\n\nWhat if you have an inner printmaker to un
 leash? Try it out in this hands-on\, beginner-friendly workshop! Lino-cutt
 ing is a classic relief printing technique that allows you to turn your or
 iginal sketches into reusable stamps. During this session\, you will learn
  the end-to-end process of designing\, transferring\, and safely carving y
 our own linoleum block. \n\nWe’ll explore the possibilities of block pri
 nting by printing custom designs on both paper and fabric. Whether you wan
 t to make a set of unique note cards or a hand-printed tea towel or muslin
  tote bag \, this class provides the foundation you need. The best part? Y
 our custom-carved "Lino-Cut" block is yours to keep\, allowing you to cont
 inue printing on a variety of materials at home. \nAll materials are inclu
 ded—join in\, connect and create - bring family friends and colleagues  
 and ! We provide the carving tools\, linoleum\, inks\, and surfaces to get
  you started.\nSaturday\, March 28th from 10 AM - 12:30 PM.\n\n  \n\nMeet 
 your instructor: Seth Birch\n\nSeth Birch\, born in rural Northeast Ohio s
 tudied at Xavier University in Cincinnati\, Ohio and in Germany at Freie U
 niversität Berlin. Since 2024 the artist has lived and worked in Deer Isl
 e\, Maine. Participating in residencies and workshops instructing in vario
 us mediums along the way. His practice ranges from Sculpture to Functional
  and from intimate to large scale. Working with many mediums Seth Birch’
 s eclectic practice is a deep dive into strained relationships\, personal 
 and worldly. His most recognizable work is of two figures ripping their he
 art and mind out behind screens. Exploring the relationship of the reality
  of emotions to the hidden nature of modern means of sharing lives.\n\n\n\
 n      \n
ATTACH;FMTTYPE=image/jpeg:https://bluehillpeninsula.org/wp-content/uploads
 /2026/03/Screen-Shot-2026-03-18-at-10.21.55-PM.png
LOCATION:ArtWaves\, 1345-A State Highway 102\, Bar Harbor\, Maine\, 04609\,
  United States
GEO:44.3995574;-68.3350489
X-APPLE-STRUCTURED-LOCATION;VALUE=URI;X-ADDRESS=1345-A State Highway 102\, 
 Bar Harbor\, Maine\, 04609\, United States;X-APPLE-RADIUS=100;X-TITLE=ArtW
 aves:geo:44.3995574,-68.3350489
END:VEVENT
BEGIN:VTIMEZONE
TZID:America/New_York
X-LIC-LOCATION:America/New_York
BEGIN:DAYLIGHT
DTSTART:20260308T030000
TZOFFSETFROM:-0500
TZOFFSETTO:-0400
TZNAME:EDT
END:DAYLIGHT
END:VTIMEZONE
END:VCALENDAR