BEGIN:VCALENDAR
VERSION:2.0
PRODID:-//wp-events-plugin.com//7.2.3.1//EN
TZID:America/New_York
X-WR-TIMEZONE:America/New_York
BEGIN:VEVENT
UID:3929@bluehillpeninsula.org
DTSTART;TZID=America/New_York:20200117T163000
DTEND;TZID=America/New_York:20200117T210000
DTSTAMP:20200101T202436Z
URL:https://bluehillpeninsula.org/events/jazz-concert-at-sandys-blue-hill-
 cafe-2/
SUMMARY:Jazz Concert at Sandy's Blue Hill Cafe
DESCRIPTION:\n\nNoted and versatile guitarist\, Chris Poulin\, performs a v
 ariety of original music and covers that span several genres\, including J
 azz\, Blues\, R&amp\;B\, Fusion and more. Accompanied by Scott Cleveland o
 n piano. Dinner is served 4:30 to 6:30 pm. Concert begins at 7 pm. No admi
 ssion after 6:30 pm. By reservation only. Call the Cafe at 207-374-5550 or
  email to: customerservice@sbhcafe.com to reserve tickets for dinner or co
 ncert or both.
LOCATION:Sandy's Blue Hill Cafe\, 40 Main Street\, Blue Hill\, ME\, 04614\,
  United States
X-APPLE-STRUCTURED-LOCATION;VALUE=URI;X-ADDRESS=40 Main Street\, Blue Hill\
 , ME\, 04614\, United States;X-APPLE-RADIUS=100;X-TITLE=Sandy's Blue Hill 
 Cafe:geo:0,0
END:VEVENT
BEGIN:VTIMEZONE
TZID:America/New_York
X-LIC-LOCATION:America/New_York
BEGIN:STANDARD
DTSTART:20191103T010000
TZOFFSETFROM:-0400
TZOFFSETTO:-0500
TZNAME:EST
END:STANDARD
END:VTIMEZONE
END:VCALENDAR