BEGIN:VCALENDAR
VERSION:2.0
PRODID:-//wp-events-plugin.com//7.2.3.1//EN
TZID:America/New_York
X-WR-TIMEZONE:America/New_York
BEGIN:VEVENT
UID:2178@bluehillpeninsula.org
DTSTART;TZID=America/New_York:20181010T180000
DTEND;TZID=America/New_York:20181010T200000
DTSTAMP:20180917T152322Z
URL:https://bluehillpeninsula.org/events/hunter-firearm-safety-course-at-t
 he-blue-hill-public-library/
SUMMARY:Hunter Firearm Safety Course at the  Blue Hill Public Library
DESCRIPTION:Blue Hill Public Library will again be hosting the Maine Depart
 ment of Inland Fisheries and Wildlife’s Firearms Safety Course for hunte
 rs. There are two options for participants\, either: 1) attend both schedu
 led sessions at the library\, Wednesday\, October 10th from 6:00 to 8:00 p
 m and Sunday\, October 21st from 9:00 am to 4:00 pm\, and complete home-st
 udy work between the two meetings or 2) complete an online course instead 
 of attending the October 10th meeting\, and attend in-person for the secon
 d full-day session held on October 21st.\n\nCompleting all the requirement
 s takes at least 12 hours\, although many will average more. The course co
 vers the basics of safe firearms handling\, responsible hunting practices 
 and Maine’s hunting regulations. Proof of having taken the course must b
 e shown with all first-time license applications. Participants must be at 
 least 10 years of age and all minors will be required to have a signed par
 ental consent form\, available at the first session. The course is free.\n
 \nRegistration is required and can be done through the library’s events 
 calendar (all must register on the October 10th calendar item\, even if do
 ing the online course\,) at www.bhpl.net\, or by calling the library at 37
 4-5515. For more information about the course\, send an email to instructo
 r@roadrunner.com or visit www.hunter-ed.com/maine to learn more or to comp
 lete the online portion of the course.
LOCATION:Blue Hill Public Library\, 5 Parker Point Rd\, Blue Hill\, ME\, 04
 614\, United States
GEO:44.4118843;-68.5900689
X-APPLE-STRUCTURED-LOCATION;VALUE=URI;X-ADDRESS=5 Parker Point Rd\, Blue Hi
 ll\, ME\, 04614\, United States;X-APPLE-RADIUS=100;X-TITLE=Blue Hill Publi
 c Library:geo:44.4118843,-68.5900689
END:VEVENT
BEGIN:VTIMEZONE
TZID:America/New_York
X-LIC-LOCATION:America/New_York
BEGIN:DAYLIGHT
DTSTART:20180311T030000
TZOFFSETFROM:-0500
TZOFFSETTO:-0400
TZNAME:EDT
END:DAYLIGHT
END:VTIMEZONE
END:VCALENDAR