BEGIN:VCALENDAR
VERSION:2.0
PRODID:-//wp-events-plugin.com//7.2.3.1//EN
TZID:America/New_York
X-WR-TIMEZONE:America/New_York
BEGIN:VEVENT
UID:7388@bluehillpeninsula.org
DTSTART;TZID=America/New_York:20260314T100000
DTEND;TZID=America/New_York:20260314T130000
DTSTAMP:20260310T002238Z
URL:https://bluehillpeninsula.org/events/home-instead-caregiver-hiring-eve
 nt/
SUMMARY:Home Instead Caregiver Hiring Event
DESCRIPTION:Hiring Event – Join the Home Instead Team\n\nAre you a compas
 sionate\, dependable person who wants to make a real difference? Join us a
 t our upcoming hiring event to learn about opportunities with Home Instead
 . We are looking for dedicated individuals with a strong work ethic and a 
 heart for helping seniors remain safe\, comfortable\, and independent in t
 heir own homes.\n\nThis is a great opportunity to meet our team\, learn ab
 out caregiving careers\, and find out if Home Instead is the right fit for
  you. Whether you already have caregiving experience or simply feel called
  to help others\, we would love to talk with you. Come discover how meanin
 gful and rewarding a career in senior care can be.\n\nNeed more informatio
 n?  Directions?  Call 207-404-2529
ATTACH;FMTTYPE=image/jpeg:https://bluehillpeninsula.org/wp-content/uploads
 /2026/03/Logo-500x-272.png
END:VEVENT
BEGIN:VTIMEZONE
TZID:America/New_York
X-LIC-LOCATION:America/New_York
BEGIN:DAYLIGHT
DTSTART:20260308T030000
TZOFFSETFROM:-0500
TZOFFSETTO:-0400
TZNAME:EDT
END:DAYLIGHT
END:VTIMEZONE
END:VCALENDAR