BEGIN:VCALENDAR
VERSION:2.0
PRODID:-//wp-events-plugin.com//7.2.3.1//EN
TZID:America/New_York
X-WR-TIMEZONE:America/New_York
BEGIN:VEVENT
UID:3989@bluehillpeninsula.org
DTSTART;TZID=America/New_York:20200222T100000
DTEND;TZID=America/New_York:20200222T120000
DTSTAMP:20200206T023245Z
URL:https://bluehillpeninsula.org/events/genealogy-help-desk-at-the-blue-h
 ill-public-library-7/
SUMMARY:Genealogy Help Desk at the  Blue Hill Public Library
DESCRIPTION:Blue Hill Public Library’s “Drop-In Genealogy Help Desk” 
 will continue its winter season with sessions scheduled on Saturdays\, Feb
 ruary 8th and 22nd from 10:00 AM to 1:00 PM in the library’s main room n
 ext to the reference desk. Local expert Liffey Thorpe will be on hand to a
 nswer questions from the public about library and online resources for doi
 ng genealogy research as well as offer advice on particular issues or “b
 rick walls.” Participants are encouraged to come with focused questions.
 \n\nLiffey Thorpe has been doing genealogy for many years. She has taken c
 ourses at Boston University and Salt Lake Community College. She recently 
 received certification from the Board for Certification of Genealogists in
  Washington\, D.C. She holds a doctorate in Classics from Stanford Univers
 ity. For more information call the library at 374-5515.
LOCATION:Blue Hill Public Library\, 5 Parker Point Rd\, Blue Hill\, ME\, 04
 614\, United States
X-APPLE-STRUCTURED-LOCATION;VALUE=URI;X-ADDRESS=5 Parker Point Rd\, Blue Hi
 ll\, ME\, 04614\, United States;X-APPLE-RADIUS=100;X-TITLE=Blue Hill Publi
 c Library:geo:0,0
END:VEVENT
BEGIN:VTIMEZONE
TZID:America/New_York
X-LIC-LOCATION:America/New_York
BEGIN:STANDARD
DTSTART:20191103T010000
TZOFFSETFROM:-0400
TZOFFSETTO:-0500
TZNAME:EST
END:STANDARD
END:VTIMEZONE
END:VCALENDAR