BEGIN:VCALENDAR
VERSION:2.0
PRODID:-//wp-events-plugin.com//7.2.3.1//EN
TZID:America/New_York
X-WR-TIMEZONE:America/New_York
BEGIN:VEVENT
UID:2010@bluehillpeninsula.org
DTSTART;TZID=America/New_York:20180730T160000
DTEND;TZID=America/New_York:20180730T170000
DTSTAMP:20180627T163210Z
URL:https://bluehillpeninsula.org/events/frogtown-mountain-puppeteers-pres
 ent-everybody-loves-pirates/
SUMMARY:Frogtown Mountain Puppeteers present \\"Everybody Loves Pirates!\\"
DESCRIPTION:As part of the Chase Emerson Library's summer reading program f
 or kids\, the Frogtown Mountain Puppeteers will present their show\, "Ever
 ybody Loves Pirates!" at the Reach Center for the Arts. Kids of ALL ages a
 re invited to attend this fun event!. A suggested donation of $5.00 per pe
 rson is welcomed. For more info\, contact the Library at 207-348-2899. Thi
 s event is sponsored by Deer Isle's Chase Emerson Library and also Bar Har
 bor Bank and Trust Co.
LOCATION:Reach Center for the Arts\, 249 N. Deer Isle Rd.\, Deer Isle\, ME\
 , 04627\, United States
GEO:44.2436388;-68.67511869999998
X-APPLE-STRUCTURED-LOCATION;VALUE=URI;X-ADDRESS=249 N. Deer Isle Rd.\, Deer
  Isle\, ME\, 04627\, United States;X-APPLE-RADIUS=100;X-TITLE=Reach Center
  for the Arts:geo:44.2436388,-68.67511869999998
END:VEVENT
BEGIN:VTIMEZONE
TZID:America/New_York
X-LIC-LOCATION:America/New_York
BEGIN:DAYLIGHT
DTSTART:20180311T030000
TZOFFSETFROM:-0500
TZOFFSETTO:-0400
TZNAME:EDT
END:DAYLIGHT
END:VTIMEZONE
END:VCALENDAR