BEGIN:VCALENDAR
VERSION:2.0
PRODID:-//wp-events-plugin.com//7.2.3.1//EN
TZID:America/New_York
X-WR-TIMEZONE:America/New_York
BEGIN:VEVENT
UID:2060@bluehillpeninsula.org
DTSTART;TZID=America/New_York:20180818T193000
DTEND;TZID=America/New_York:20180818T210000
DTSTAMP:20180711T131815Z
URL:https://bluehillpeninsula.org/events/forelle-trio-2/
SUMMARY:Forelle Trio
DESCRIPTION:The Bagaduce Music Lending Library announces Forelle Trio Satur
 day\, August 18 at 7:30pm at the BMLL Performance Hall\, 49 South Street i
 n Blue Hill featuring Richard Hsu\, violin\, Phillip Silver\, Piano\, and 
 Noreen Silver\, Cello. The program will include Schubert's Notturno in E-f
 lat major\, Op. 148\, Beethoven's Piano Trio in E-flat- major\, Op.1\, no.
  1 and Dvorak's Piano Trio No.4 in D minor\, Op. 90\, "Dumky".\n\nFor tick
 ets or further information call (207) 374-5454.
LOCATION:BMLL Performance Hall\, 49 South Street\, Blue Hill\, ME\, 04614\,
  United States
GEO:44.4066376;-68.59582019999999
X-APPLE-STRUCTURED-LOCATION;VALUE=URI;X-ADDRESS=49 South Street\, Blue Hill
 \, ME\, 04614\, United States;X-APPLE-RADIUS=100;X-TITLE=BMLL Performance 
 Hall:geo:44.4066376,-68.59582019999999
END:VEVENT
BEGIN:VTIMEZONE
TZID:America/New_York
X-LIC-LOCATION:America/New_York
BEGIN:DAYLIGHT
DTSTART:20180311T030000
TZOFFSETFROM:-0500
TZOFFSETTO:-0400
TZNAME:EDT
END:DAYLIGHT
END:VTIMEZONE
END:VCALENDAR