BEGIN:VCALENDAR
VERSION:2.0
PRODID:-//wp-events-plugin.com//7.2.3.1//EN
TZID:America/New_York
X-WR-TIMEZONE:America/New_York
BEGIN:VEVENT
UID:1710@bluehillpeninsula.org
DTSTART;TZID=America/New_York:20180813T193000
DTEND;TZID=America/New_York:20180813T203000
DTSTAMP:20180305T191516Z
URL:https://bluehillpeninsula.org/events/flash-in-the-pans-3/
SUMMARY:Flash in The Pans
DESCRIPTION:Come to the park\, have a great time listening and dancing to o
 ur fabulous\, local Flash in The Pans steel drums band\, and help to suppo
 rt the Blue Hill Historical Society - all at the same time\, at the same t
 errific event!
LOCATION:Blue Hill Town Park\, Water Street\, Blue Hill\, Maine\, United St
 ates
GEO:44.41134830000001;-68.58604129999998
X-APPLE-STRUCTURED-LOCATION;VALUE=URI;X-ADDRESS=Water Street\, Blue Hill\, 
 Maine\, United States;X-APPLE-RADIUS=100;X-TITLE=Blue Hill Town Park:geo:4
 4.41134830000001,-68.58604129999998
END:VEVENT
BEGIN:VTIMEZONE
TZID:America/New_York
X-LIC-LOCATION:America/New_York
BEGIN:DAYLIGHT
DTSTART:20180311T030000
TZOFFSETFROM:-0500
TZOFFSETTO:-0400
TZNAME:EDT
END:DAYLIGHT
END:VTIMEZONE
END:VCALENDAR