BEGIN:VCALENDAR
VERSION:2.0
PRODID:-//wp-events-plugin.com//7.2.3.1//EN
TZID:America/New_York
X-WR-TIMEZONE:America/New_York
BEGIN:VEVENT
UID:6110@bluehillpeninsula.org
DTSTART;TZID=America/New_York:20241019T083000
DTEND;TZID=America/New_York:20241019T163000
DTSTAMP:20241003T011720Z
URL:https://bluehillpeninsula.org/events/firearms-hunters-safety-class-for
 -kidsages10-16-adults/
SUMMARY:Firearms Hunter's Safety Class for Kids(ages10-16) & Adults
DESCRIPTION:A Firearms Hunter's Safety Course will be hosted by the Blue Hi
 ll Heritage Trust. This course will be offered as an Online Course with an
  in-person Field Day.\n\nThis is the Maine Department of Fish and Wildlife
  Certified Hunter Safety Program. Learn more here!
END:VEVENT
BEGIN:VTIMEZONE
TZID:America/New_York
X-LIC-LOCATION:America/New_York
BEGIN:DAYLIGHT
DTSTART:20240310T030000
TZOFFSETFROM:-0500
TZOFFSETTO:-0400
TZNAME:EDT
END:DAYLIGHT
END:VTIMEZONE
END:VCALENDAR