BEGIN:VCALENDAR
VERSION:2.0
PRODID:-//wp-events-plugin.com//7.2.3.1//EN
TZID:America/New_York
X-WR-TIMEZONE:America/New_York
BEGIN:VEVENT
UID:4700@bluehillpeninsula.org
DTSTART;TZID=America/New_York:20220708T153000
DTEND;TZID=America/New_York:20220708T183000
DTSTAMP:20220616T140213Z
URL:https://bluehillpeninsula.org/events/felted-pets-workshop-2/
SUMMARY:Felted Pets Workshop
DESCRIPTION:Felted Pets - July 2022\n\n\n\n\nMake a mini pet - perhaps a re
 plica of your pet! All materials and gear included\, even a bit of fleece 
 from Liz's goldendoodle! \n\nFriday July 8th\, 2022\, from 3:30pm to 6:00
 pm\n\nARTWAVES. 1345A HWY 102 BAR HARBOR\n\n207-266-0010\n\nTo Register: 
  https://artwavesmdi.org/event-4844149\n\n$50 ($40 for members)\n\nAges 1
 0 to Adult of all levels\n\n\nMasks\, vax'd (over 5)\, and distancing for 
 staff and participant safety.\n\n  \n\n\nAbout the instructor: Liz Cutl
 er.com My paintings are inspired by a spark\, something that wows me or q
 uietly invites me to linger. I love capturing what transports me to being 
 right there\, to share and return to spectacular moments.\n\nLiz is a foun
 der (2013) of ArtWaves\, where she continues her practice through figure d
 rawing\, teaching\, workshops\, conversational critiques and working in he
 r personal studio at the Bar Harbor Municipal building. Her artwork is exp
 ressed in a variety of media primarily oil painting\, including glass\, fi
 ber and printmaking. She graduated with a B.A.in Painting from Swain Schoo
 l of Design including a year at Worcester Art Museum School and Boston Mus
 eum of Fine Arts and recently a Masters from Heartwood College of Art. Liz
  is a member of the American Society of Marine Artists?\, Fiber Arts Netwo
 rk and Maine Crafts Association. Liz is currently the Executive Director o
 f ArtWaves and enjoys her studio time with students.\n\n\n\n\n\n\n\n\n\n\n
 \n\n\n\n\n\n\n\n\n\n\n\n\n\n\n\n
LOCATION:ArtWaves\, 1345a State highway 102\, Bar Harbor\, Maine\, 04609\, 
 Hancock\, United States
X-APPLE-STRUCTURED-LOCATION;VALUE=URI;X-ADDRESS=1345a State highway 102\, B
 ar Harbor\, Maine\, 04609\, Hancock\, United States;X-APPLE-RADIUS=100;X-T
 ITLE=ArtWaves:geo:0,0
END:VEVENT
BEGIN:VTIMEZONE
TZID:America/New_York
X-LIC-LOCATION:America/New_York
BEGIN:DAYLIGHT
DTSTART:20220313T030000
TZOFFSETFROM:-0500
TZOFFSETTO:-0400
TZNAME:EDT
END:DAYLIGHT
END:VTIMEZONE
END:VCALENDAR