BEGIN:VCALENDAR
VERSION:2.0
PRODID:-//wp-events-plugin.com//7.2.3.1//EN
TZID:America/New_York
X-WR-TIMEZONE:America/New_York
BEGIN:VEVENT
UID:583@bluehillpeninsula.org
DTSTART;TZID=America/New_York:20160716T100000
DTEND;TZID=America/New_York:20160716T120000
DTSTAMP:20160706T165608Z
URL:https://bluehillpeninsula.org/events/farm-tour-four-season-farm/
SUMMARY:Farm Tour: Four Season Farm
DESCRIPTION:Join the Blue Hill Co-op to tour Four Season Farm with Elliot C
 oleman and Barbara Damrosch. Four Season Farm is an experimental market ga
 rden in Harborside\, Maine\, owned and operated by writers Barbara Damrosc
 h and Eliot Coleman. The farm produces vegetables year-round and has becom
 e a nationally recognized model of small-scale sustainable agriculture. Th
 e Co-op sells their delicious produce and their beautiful flower bouquets.
  Please pre-register with Beth Dickens ownership@bluehill.coop or 374-2165
 .
LOCATION:Four Season Farm\, 609 Weir Cove Road\, Brooksville\, Maine\, 0461
 7\, United States
GEO:44.3168848;-68.80524609999998
X-APPLE-STRUCTURED-LOCATION;VALUE=URI;X-ADDRESS=609 Weir Cove Road\, Brooks
 ville\, Maine\, 04617\, United States;X-APPLE-RADIUS=100;X-TITLE=Four Seas
 on Farm:geo:44.3168848,-68.80524609999998
END:VEVENT
BEGIN:VTIMEZONE
TZID:America/New_York
X-LIC-LOCATION:America/New_York
BEGIN:DAYLIGHT
DTSTART:20160313T030000
TZOFFSETFROM:-0500
TZOFFSETTO:-0400
TZNAME:EDT
END:DAYLIGHT
END:VTIMEZONE
END:VCALENDAR