BEGIN:VCALENDAR
VERSION:2.0
PRODID:-//wp-events-plugin.com//7.2.3.1//EN
TZID:America/New_York
X-WR-TIMEZONE:America/New_York
BEGIN:VEVENT
UID:541@bluehillpeninsula.org
DTSTART;TZID=America/New_York;VALUE=DATE:20160816
DTEND;TZID=America/New_York;VALUE=DATE:20160817
DTSTAMP:20160524T155031Z
URL:https://bluehillpeninsula.org/events/exhibit-mid-century-photojournali
 sm/
SUMMARY:Exhibit: Mid-Century Photojournalism
DESCRIPTION:Charlotte Brooks was a distinguished photojournalist working on
  a variety of projects from the 1940's through the 1980's. She is most cel
 ebrated for the work she did at LOOK magazine as staff photographer from 1
 950-1971. This special exhibit will run from 8/16 – 10/1 at Kingman G
 allery Maine Fine Art Photography.
LOCATION:Kingman Gallery\, 117 Center District Crossroad\, Deer Isle\, Main
 e\, 04627\, United States
GEO:44.2162379;-68.6826297
X-APPLE-STRUCTURED-LOCATION;VALUE=URI;X-ADDRESS=117 Center District Crossro
 ad\, Deer Isle\, Maine\, 04627\, United States;X-APPLE-RADIUS=100;X-TITLE=
 Kingman Gallery:geo:44.2162379,-68.6826297
END:VEVENT
BEGIN:VTIMEZONE
TZID:America/New_York
X-LIC-LOCATION:America/New_York
BEGIN:DAYLIGHT
DTSTART:20160313T030000
TZOFFSETFROM:-0500
TZOFFSETTO:-0400
TZNAME:EDT
END:DAYLIGHT
END:VTIMEZONE
END:VCALENDAR