BEGIN:VCALENDAR
VERSION:2.0
PRODID:-//wp-events-plugin.com//7.2.3.1//EN
TZID:America/New_York
X-WR-TIMEZONE:America/New_York
BEGIN:VEVENT
UID:5977@bluehillpeninsula.org
DTSTART;TZID=America/New_York:20240808T000000
DTEND;TZID=America/New_York:20240811T000000
DTSTAMP:20240808T015521Z
URL:https://bluehillpeninsula.org/events/downeast-shakes-shenanigans-at-th
 e-knowlton-park-amphitheater/
SUMMARY:DOWNEAST SHAKES $ SHENANIGANS at the Knowlton Park Amphitheater.
DESCRIPTION:August 8 &amp\; 9 | 7pm\n\nAugust 11 | 7pm\n\nDOWNEAST SHAKES $
  SHENANIGANS at the Knowlton Park Amphitheater.\n\nOne weekend only.\n\nCo
 nceived\, written\, poor yoricked\, and directed by Brent Hutchins. "Downe
 ast Shakes &amp\; Shenanigans" brings together the Bard and original works
  centered around the citizens of the mythical Broad Harbor\, Maine.\n\n"It
 's a Downeast romp through some of the Bard's best bits - the three witche
 s\, Hamlet\, Agincourt. Sprinkle in some original contrastin' Maine tragic
 omedy from Junior and The Trenton Flats Irregulars!"\n\nPerformances start
  at 7:00 pm each evening and 4:00 on Sunday.\n\nBYOB &amp\; C - Bring your
  own blanket &amp\; chair!\n\nAdmission is free. Concessions will be avail
 able for purchase.\n\nSponsored by The City of Ellsworth.
LOCATION:knowlton park\, 160 state st\, ellsworth\, United States
X-APPLE-STRUCTURED-LOCATION;VALUE=URI;X-ADDRESS=160 state st\, ellsworth\, 
 United States;X-APPLE-RADIUS=100;X-TITLE=knowlton park:geo:0,0
END:VEVENT
BEGIN:VTIMEZONE
TZID:America/New_York
X-LIC-LOCATION:America/New_York
BEGIN:DAYLIGHT
DTSTART:20240310T030000
TZOFFSETFROM:-0500
TZOFFSETTO:-0400
TZNAME:EDT
END:DAYLIGHT
END:VTIMEZONE
END:VCALENDAR