BEGIN:VCALENDAR
VERSION:2.0
PRODID:-//wp-events-plugin.com//7.2.3.1//EN
TZID:America/New_York
X-WR-TIMEZONE:America/New_York
BEGIN:VEVENT
UID:7611@bluehillpeninsula.org
DTSTART;TZID=America/New_York:20260430T171500
DTEND;TZID=America/New_York:20260430T201500
DTSTAMP:20260424T004812Z
URL:https://bluehillpeninsula.org/events/cyanotype-printing-on-fabric-pape
 r/
SUMMARY:Cyanotype Printing on Fabric &amp\; Paper
DESCRIPTION:Experiment with natural patterns and mindful making through thi
 s hands-on workshop focused on cyanotypes! This class will explore the bas
 ics of cyanotype printing techniques with fabric and paper to create a ser
 ies of prints and cotton fabric patches. Participants will capture shadows
  through cyanotype printing\, utilizing seasonally foraged plants of the r
 egion as well as everyday objects to print with. Join us to experiment wit
 h this cameraless photographic printmaking process as a way to connect to 
 the season and objects around us\, helping to capture elements of time\, p
 lace\, history\, and meaning through unique prints. All materials are prov
 ided\, and participants may bring their own objects to print with as well.
ATTACH;FMTTYPE=image/jpeg:https://bluehillpeninsula.org/wp-content/uploads
 /2026/04/Screenshot-2026-04-23-at-12.29.58-PM.png
LOCATION:ArtWaves\, 1345-A State Highway 102\, Bar Harbor\, Maine\, 04609\,
  United States
GEO:44.3995574;-68.3350489
X-APPLE-STRUCTURED-LOCATION;VALUE=URI;X-ADDRESS=1345-A State Highway 102\, 
 Bar Harbor\, Maine\, 04609\, United States;X-APPLE-RADIUS=100;X-TITLE=ArtW
 aves:geo:44.3995574,-68.3350489
END:VEVENT
BEGIN:VTIMEZONE
TZID:America/New_York
X-LIC-LOCATION:America/New_York
BEGIN:DAYLIGHT
DTSTART:20260308T030000
TZOFFSETFROM:-0500
TZOFFSETTO:-0400
TZNAME:EDT
END:DAYLIGHT
END:VTIMEZONE
END:VCALENDAR