BEGIN:VCALENDAR
VERSION:2.0
PRODID:-//wp-events-plugin.com//7.2.3.1//EN
TZID:America/New_York
X-WR-TIMEZONE:America/New_York
BEGIN:VEVENT
UID:1923@bluehillpeninsula.org
DTSTART;TZID=America/New_York:20180912T183000
DTEND;TZID=America/New_York:20180912T193000
DTSTAMP:20180516T131810Z
URL:https://bluehillpeninsula.org/events/cloud-watching-a-nature-program-a
 t-woodlawn-2/
SUMMARY:Cloud Watching: A Nature Program at Woodlawn
DESCRIPTION:Remember those carefree childhood days of lying in the sun watc
 hing clouds drift by? Recapture that feeling with arm-chair cloud gazing w
 hile learning cloud types and what weather they herald. Then decide just w
 hat that cloud looks like….an elephant playing a tuba? Woodlawn’s natu
 re programs\, led by naturalist Lynn Havsall\, are a fun learning experien
 ce open for all ages. Children under 12 must be accompanied by an adult. N
 ature programs are free and open to the public. Donations\, however\, are 
 greatly appreciated.\n\nSpace is limited. Reservations are required at htt
 ps://woodlawnmuseum.com/event/cloud-watching-nature-program-woodlawn/
ATTACH;FMTTYPE=image/jpeg:https://bluehillpeninsula.org/wp-content/uploads
 /2018/05/clouds.jpg
LOCATION:Woodlawn Museum\, Gardens & Park\, 19 Black House Drive\, Rt. 172\
 , Elsworth\, ME\, 04605\, Hancock County\, United States
GEO:44.774235;-68.373505
X-APPLE-STRUCTURED-LOCATION;VALUE=URI;X-ADDRESS=19 Black House Drive\, Rt. 
 172\, Elsworth\, ME\, 04605\, Hancock County\, United States;X-APPLE-RADIU
 S=100;X-TITLE=Woodlawn Museum\, Gardens & Park:geo:44.774235,-68.373505
END:VEVENT
BEGIN:VTIMEZONE
TZID:America/New_York
X-LIC-LOCATION:America/New_York
BEGIN:DAYLIGHT
DTSTART:20180311T030000
TZOFFSETFROM:-0500
TZOFFSETTO:-0400
TZNAME:EDT
END:DAYLIGHT
END:VTIMEZONE
END:VCALENDAR