BEGIN:VCALENDAR
VERSION:2.0
PRODID:-//wp-events-plugin.com//7.2.3.1//EN
TZID:America/New_York
X-WR-TIMEZONE:America/New_York
BEGIN:VEVENT
UID:2328@bluehillpeninsula.org
DTSTART;TZID=America/New_York:20181220T180000
DTEND;TZID=America/New_York:20181220T200000
DTSTAMP:20181119T180817Z
URL:https://bluehillpeninsula.org/events/cinegrand-film-eighth-grade-thurs
 day-evening/
SUMMARY:CineGrand Film: Eighth Grade (Thursday Evening)
DESCRIPTION:On Thursday December 20th at 6:00 pm and a special captioned ma
 tinee on Friday\, December 21st at 1 pm\, The Grand continues its CineGran
 d series of recent well-reviewed films presented on the giant Coastal Eye 
 Care with the winner of the Audience Favorite Award at this year's Sundanc
 e Film Festival- “Eighth Grade.” Thirteen-year-old Kayla endures the t
 idal wave of contemporary suburban adolescence as she makes her way throug
 h the last week of middle school- the end of her thus far disastrous eight
 h grade year before she begins high school. With Elsie Fisher\, Josh Hamil
 ton and Missy Yager. (2018. US 1 hr\, 34 min. Directed by Bo Burnham. R.) 
 Tickets for this General Admission presentation are $8 for Adults\, $7 for
  Seniors/Students (15 and under) and $6 Grand Members (as well as Matinee 
 screenings). For more information on this or other Grand events\, please c
 all the box office at 207-667-9500 or visit The Grand website at www.grand
 online.org or follow The Grand on Facebook.
LOCATION:The Grand\, 165 Maine Street\, Ellsworth\, ME\, 04605\, United Sta
 tes
GEO:44.5416615;-68.42274659999998
X-APPLE-STRUCTURED-LOCATION;VALUE=URI;X-ADDRESS=165 Maine Street\, Ellswort
 h\, ME\, 04605\, United States;X-APPLE-RADIUS=100;X-TITLE=The Grand:geo:44
 .5416615,-68.42274659999998
END:VEVENT
BEGIN:VTIMEZONE
TZID:America/New_York
X-LIC-LOCATION:America/New_York
BEGIN:STANDARD
DTSTART:20181104T010000
TZOFFSETFROM:-0400
TZOFFSETTO:-0500
TZNAME:EST
END:STANDARD
END:VTIMEZONE
END:VCALENDAR