BEGIN:VCALENDAR
VERSION:2.0
PRODID:-//wp-events-plugin.com//7.2.3.1//EN
TZID:America/New_York
X-WR-TIMEZONE:America/New_York
BEGIN:VEVENT
UID:2324@bluehillpeninsula.org
DTSTART;TZID=America/New_York:20181129T180000
DTEND;TZID=America/New_York:20181129T200000
DTSTAMP:20181119T180355Z
URL:https://bluehillpeninsula.org/events/build-your-own-website-or-start-y
 our-own-blog-at-the-blue-hill-public-library/
SUMMARY:“Build Your Own Website or “Start Your Own Blog” at the Blue 
 Hill Public Library
DESCRIPTION:Local programmer and self-described “tech geek” Mike Wolf w
 ill present a workshop\, “Build Your Own Website or Start Your Own Blog
 ” at the Blue Hill Public Library on Thursday\, November 29th at 6:00 PM
 . The workshop is sponsored by the library and is free but space is limite
 d\, so registration is required\, either on the library’s web calendar a
 t www.bhpl.net or by calling the library at 374-5515. All ages and experie
 nce levels are welcome. Participants can bring their own laptops or tablet
 s\, or use one supplied by the library. When registering\, participants sh
 ould include in the "notes" field whether they need to borrow a computer f
 or the workshop.\n\nParticipants will learn how to build their own website
 \, or blog\, or both\, and will be able to complete their projects for fre
 e. However\, if anyone wants to register for a custom domain\, it costs ab
 out $12.00 a year.\n\nMike Wolf has lived in Blue Hill for nearly 20 years
 . He cofounded the “Blue Hill Hackers\,” a group of tech enthusiasts a
 nd technologically curious people who meet at the library every Monday nig
 ht to work together\, show off cool new tech devices and apps\, and answer
  questions from newcomers. He's also a regular helper at the library's Tec
 h Tuesday Helpdesk. This event is sponsored by the library and is open to 
 everyone.
LOCATION:Blue Hill Public Library\, 5 Parker Point Rd\, Blue Hill\, ME\, 04
 614\, United States
GEO:44.41185309999999;-68.59004779999998
X-APPLE-STRUCTURED-LOCATION;VALUE=URI;X-ADDRESS=5 Parker Point Rd\, Blue Hi
 ll\, ME\, 04614\, United States;X-APPLE-RADIUS=100;X-TITLE=Blue Hill Publi
 c Library:geo:44.41185309999999,-68.59004779999998
END:VEVENT
BEGIN:VTIMEZONE
TZID:America/New_York
X-LIC-LOCATION:America/New_York
BEGIN:STANDARD
DTSTART:20181104T010000
TZOFFSETFROM:-0400
TZOFFSETTO:-0500
TZNAME:EST
END:STANDARD
END:VTIMEZONE
END:VCALENDAR