BEGIN:VCALENDAR
VERSION:2.0
PRODID:-//wp-events-plugin.com//7.2.3.1//EN
TZID:America/New_York
X-WR-TIMEZONE:America/New_York
BEGIN:VEVENT
UID:2065@bluehillpeninsula.org
DTSTART;TZID=America/New_York:20180725T100000
DTEND;TZID=America/New_York:20180725T120000
DTSTAMP:20180717T125207Z
URL:https://bluehillpeninsula.org/events/blue-hill-library-conservation-ki
 ds-beach-cleanup/
SUMMARY:Blue Hill Library Conservation Kids:  Beach Cleanup
DESCRIPTION:Kids and families are invited to a beach cleanup at Peter’s C
 ove on the East Blue Hill Road as part of the Blue Hill Public Library’s
  “Conservation Kids” program\, on Wednesday\, July 25. Interested folk
 s can meet at the library at 10:00 AM\, and caregivers will then transport
  kids to the site.\n\nThis project is the third in a series of five "Conse
 rvation Kids" projects by the library that are intended to engage youth vo
 lunteers to positively impact the environment and community on the Blue Hi
 ll Peninsula. The projects are designed to teach kids proactive steps they
  can take to make a difference in helping to preserve the natural world ar
 ound them. These programs are made possible by a grant from the Davis Cons
 ervation Foundation. For more information call the library at 374-5515.
LOCATION:Blue Hill Public Library\, 5 Parker Point Rd\, Blue Hill\, ME\, 04
 614\, United States
GEO:44.4118843;-68.5900689
X-APPLE-STRUCTURED-LOCATION;VALUE=URI;X-ADDRESS=5 Parker Point Rd\, Blue Hi
 ll\, ME\, 04614\, United States;X-APPLE-RADIUS=100;X-TITLE=Blue Hill Publi
 c Library:geo:44.4118843,-68.5900689
END:VEVENT
BEGIN:VTIMEZONE
TZID:America/New_York
X-LIC-LOCATION:America/New_York
BEGIN:DAYLIGHT
DTSTART:20180311T030000
TZOFFSETFROM:-0500
TZOFFSETTO:-0400
TZNAME:EDT
END:DAYLIGHT
END:VTIMEZONE
END:VCALENDAR