BEGIN:VCALENDAR
VERSION:2.0
PRODID:-//wp-events-plugin.com//7.2.3.1//EN
TZID:America/New_York
X-WR-TIMEZONE:America/New_York
BEGIN:VEVENT
UID:2697@bluehillpeninsula.org
DTSTART;TZID=America/New_York:20190302T090000
DTEND;TZID=America/New_York:20190302T140000
DTSTAMP:20190227T154318Z
URL:https://bluehillpeninsula.org/events/blue-hill-library-book-sale-march
 -2nd/
SUMMARY:Blue Hill Library Book Sale March 2nd
DESCRIPTION:The Friends of Blue Hill Public Library will hold their first-S
 aturday-of-the-month book sale on March 2nd in the library’s basement 
 “book nook” from 9:00 AM to 2:00 PM. All fiction will be half-price an
 d all CDs will be 25 cents. Special collections will include a number of g
 raphic novels. Most books are still only a dollar or two\, and paperbacks 
 only 50 cents. Each child visiting the sale may select a free book.\n\nThe
  Friends wish to thank the many donors who keep the sale supplied with qua
 lity books\, and welcome contributions - big or small. Book sale proceeds 
 enable the Friends to sponsor many of the special programs offered at the 
 library\, and to make special purchases of books\, DVDs\, and equipment fo
 r the library. To donate books that are in good condition (please no moldy
  or soiled books!) or for more information\, contact the library at 374-55
 15.
LOCATION:Blue Hill Public Library\, 5 Parker Point Rd\, Blue Hill\, United 
 States
GEO:44.41185309999999;-68.59004779999998
X-APPLE-STRUCTURED-LOCATION;VALUE=URI;X-ADDRESS=5 Parker Point Rd\, Blue Hi
 ll\, United States;X-APPLE-RADIUS=100;X-TITLE=Blue Hill Public Library:geo
 :44.41185309999999,-68.59004779999998
END:VEVENT
BEGIN:VTIMEZONE
TZID:America/New_York
X-LIC-LOCATION:America/New_York
BEGIN:STANDARD
DTSTART:20181104T010000
TZOFFSETFROM:-0400
TZOFFSETTO:-0500
TZNAME:EST
END:STANDARD
END:VTIMEZONE
END:VCALENDAR