BEGIN:VCALENDAR
VERSION:2.0
PRODID:-//wp-events-plugin.com//7.2.3.1//EN
TZID:America/New_York
X-WR-TIMEZONE:America/New_York
BEGIN:VEVENT
UID:353@bluehillpeninsula.org
DTSTART;TZID=America/New_York:20160422T183000
DTEND;TZID=America/New_York:20160422T193000
DTSTAMP:20160203T185234Z
URL:https://bluehillpeninsula.org/events/blue-hill-co-op-sponsored-talk-a-
 new-national-park-for-maine/
SUMMARY:Blue Hill Co-op Sponsored Talk: A New National Park for Maine
DESCRIPTION:Join the Co-op in welcoming Ryan Parker from the Natural Resour
 ces Council of Maine on Friday\, April 22 at 6:00 p.m. to learn more about
  Elliotsville Plantation\, Inc.’s (EPI) proposal to create a National Pa
 rk and National Recreation Area east of Baxter State Park. EPI has propose
 d to donate up to 150\,000 acres to the federal government to create Maine
 ’s second National Park. Ryan will use photos and film to give you a gli
 mpse of the land and its special features\, and he will describe the journ
 ey toward making the dream of a National Park and National Recreation Area
  a reality. SPACE IS LIMITED. Please pre-register at the Blue Hill Co-op.
ATTACH;FMTTYPE=image/jpeg:https://bluehillpeninsula.org/wp-content/uploads
 /2016/02/Baxter-State-Park.jpg
LOCATION:Howard Room\, Blue Hill Public Library\, 5 Parker Point Rd\, Blue 
 Hill\, United States
GEO:44.4118843;-68.5900689
X-APPLE-STRUCTURED-LOCATION;VALUE=URI;X-ADDRESS=5 Parker Point Rd\, Blue Hi
 ll\, United States;X-APPLE-RADIUS=100;X-TITLE=Howard Room\, Blue Hill Publ
 ic Library:geo:44.4118843,-68.5900689
END:VEVENT
BEGIN:VTIMEZONE
TZID:America/New_York
X-LIC-LOCATION:America/New_York
BEGIN:DAYLIGHT
DTSTART:20160313T030000
TZOFFSETFROM:-0500
TZOFFSETTO:-0400
TZNAME:EDT
END:DAYLIGHT
END:VTIMEZONE
END:VCALENDAR