BEGIN:VCALENDAR
VERSION:2.0
PRODID:-//wp-events-plugin.com//7.2.3.1//EN
TZID:America/New_York
X-WR-TIMEZONE:America/New_York
BEGIN:VEVENT
UID:493@bluehillpeninsula.org
DTSTART;TZID=America/New_York:20160721T193000
DTEND;TZID=America/New_York:20160721T213000
DTSTAMP:20160511T162756Z
URL:https://bluehillpeninsula.org/events/blue-hill-bach-festival-2/
SUMMARY:Blue Hill Bach Festival
DESCRIPTION:\nBach in Weimar\n\nThursday\, July 21—7:30 pm\nSt. Francis b
 y the Sea Episcopal Church—330 Hinckley Ridge Road\, Blue Hill\nPrince J
 ohann Ernst: Violin Concerto in d minor\nBach: Brandenburg Concerto #6\nWe
 inen\, Klagen\, Sorgen\, Zagen\, BWV 12\nConcerto for Organ in G Major\, B
 WV 592 (after Prince Johann Ernst)\nfeaturing the magnificent Karl Wilhelm
  tracker organ\nErschallet\, ihr Lieder\, erklinget\, ihr Saiten! BWV 172\
 n\n$25 suggested donation\, students $10\, under 18 free\nBuy Tickets\n\n&
 nbsp\;\n\nFor more information about Blue Hill Bach\, click here.
LOCATION:St. Francis by the Sea Episcopal Church\, 330 Hinckley Ridge Rd\, 
 Blue HIll\, ME Maine\, 04614\, United States
GEO:44.4308822;-68.62849140000003
X-APPLE-STRUCTURED-LOCATION;VALUE=URI;X-ADDRESS=330 Hinckley Ridge Rd\, Blu
 e HIll\, ME Maine\, 04614\, United States;X-APPLE-RADIUS=100;X-TITLE=St. F
 rancis by the Sea Episcopal Church:geo:44.4308822,-68.62849140000003
END:VEVENT
BEGIN:VTIMEZONE
TZID:America/New_York
X-LIC-LOCATION:America/New_York
BEGIN:DAYLIGHT
DTSTART:20160313T030000
TZOFFSETFROM:-0500
TZOFFSETTO:-0400
TZNAME:EDT
END:DAYLIGHT
END:VTIMEZONE
END:VCALENDAR