BEGIN:VCALENDAR
VERSION:2.0
PRODID:-//wp-events-plugin.com//7.2.3.1//EN
TZID:America/New_York
X-WR-TIMEZONE:America/New_York
BEGIN:VEVENT
UID:4127@bluehillpeninsula.org
DTSTART;TZID=America/New_York:20210108T090000
DTEND;TZID=America/New_York:20210108T103000
DTSTAMP:20200828T163010Z
URL:https://bluehillpeninsula.org/events/bhpcoc-board-meeting-2021-01-08/
SUMMARY:BHPCoC Board Meeting
DESCRIPTION:Blue hill Peninsula Chamber of Commerce Board of Directors meet
 ings are held the second Friday of each month (exceptions made for schedul
 ing when necessary) from 9-10:30am.  Location may vary. For more informat
 ion\, contact us at 207-374-3242.
END:VEVENT
BEGIN:VTIMEZONE
TZID:America/New_York
X-LIC-LOCATION:America/New_York
BEGIN:STANDARD
DTSTART:20201101T010000
TZOFFSETFROM:-0400
TZOFFSETTO:-0500
TZNAME:EST
END:STANDARD
END:VTIMEZONE
END:VCALENDAR