BEGIN:VCALENDAR
VERSION:2.0
PRODID:-//wp-events-plugin.com//7.2.3.1//EN
TZID:America/New_York
X-WR-TIMEZONE:America/New_York
BEGIN:VEVENT
UID:235@bluehillpeninsula.org
DTSTART;TZID=America/New_York:20151121T090000
DTEND;TZID=America/New_York:20151121T140000
DTSTAMP:20151119T140244Z
URL:https://bluehillpeninsula.org/events/bhcs-ptf-craft-fair/
SUMMARY:BHCS PTF Craft Fair
DESCRIPTION:BHCS' Holiday Craft Fair! This Saturday\, November 21. 9am-2pm 
 in the school gym.\n\nEnjoy a wide variety of locally made and handcrafted
  items from some of your favorite businesses - and a few surprises!\n\nWho
 's in your list? We bet you'll find something for them here!
LOCATION:Blue Hill Consolidated School\, 60 High St\, Blue Hill\, ME\, 0461
 7\, United States
GEO:44.4147744;-68.59238099999999
X-APPLE-STRUCTURED-LOCATION;VALUE=URI;X-ADDRESS=60 High St\, Blue Hill\, ME
 \, 04617\, United States;X-APPLE-RADIUS=100;X-TITLE=Blue Hill Consolidated
  School:geo:44.4147744,-68.59238099999999
END:VEVENT
BEGIN:VTIMEZONE
TZID:America/New_York
X-LIC-LOCATION:America/New_York
BEGIN:STANDARD
DTSTART:20151101T010000
TZOFFSETFROM:-0400
TZOFFSETTO:-0500
TZNAME:EST
END:STANDARD
END:VTIMEZONE
END:VCALENDAR