BEGIN:VCALENDAR
VERSION:2.0
PRODID:-//wp-events-plugin.com//7.2.3.1//EN
TZID:America/New_York
X-WR-TIMEZONE:America/New_York
BEGIN:VEVENT
UID:4368@bluehillpeninsula.org
DTSTART;TZID=America/New_York:20220122T160000
DTEND;TZID=America/New_York:20220122T160000
DTSTAMP:20220119T213132Z
URL:https://bluehillpeninsula.org/events/baroque-orchestra-of-maine/
SUMMARY:Baroque Orchestra of Maine
DESCRIPTION:Baroque Orchestra of Maine\n\nTickets are $20 for adults\, avai
 lable at the door\nAll audience members must be vaccinated\n\nPerformers\n
 Heidi Powell\, baroque violin\nMax Treitler\, baroque cello\nDaniel Pyle\,
  harpsichord
LOCATION:The Brooklin Inn\, 22 Reach Rd\, Brooklin\, ME\, 04616\, United St
 ates
GEO:44.265562;-68.57106
X-APPLE-STRUCTURED-LOCATION;VALUE=URI;X-ADDRESS=22 Reach Rd\, Brooklin\, ME
 \, 04616\, United States;X-APPLE-RADIUS=100;X-TITLE=The Brooklin Inn:geo:4
 4.265562,-68.57106
END:VEVENT
BEGIN:VTIMEZONE
TZID:America/New_York
X-LIC-LOCATION:America/New_York
BEGIN:STANDARD
DTSTART:20211107T010000
TZOFFSETFROM:-0400
TZOFFSETTO:-0500
TZNAME:EST
END:STANDARD
END:VTIMEZONE
END:VCALENDAR