BEGIN:VCALENDAR
VERSION:2.0
PRODID:-//wp-events-plugin.com//7.2.3.1//EN
TZID:America/New_York
X-WR-TIMEZONE:America/New_York
BEGIN:VEVENT
UID:7366@bluehillpeninsula.org
DTSTART;TZID=America/New_York:20260327T190000
DTEND;TZID=America/New_York:20260327T203000
DTSTAMP:20260224T024610Z
URL:https://bluehillpeninsula.org/events/bachs-birthday-concert-blue-hill-
 bach-with-north-star-baroque/
SUMMARY:Bach's Birthday Concert: Blue Hill Bach with North Star Baroque
DESCRIPTION:Bach's Birthday Concert: Blue Hill Bach with North Star Baroque
 \n\nJoin Blue Hill Bach in celebrating Johann Sebastian Bach's 341st birth
 day and Early Music Month with an intimate evening of Baroque chamber musi
 c. We are delighted to welcome Portland-based ensemble North Star Baroque 
 for their Blue Hill Bach debut. Led by the talented violinist and Music Di
 rector Anna Pearlman\, this exceptional ensemble will perform works by Bac
 h\, Corelli\, Rameau\, Telemann\, and Handel on period instruments — an 
 evening not to be missed.\n\nFriday\, March 27\, 2026 | Doors 6:30 PM | Co
 ncert 7:00 PM\nSt. Francis by the Sea Episcopal Church\, 330 Hinckley Ridg
 e Rd\, Blue Hill\, ME\n\nAdults $30 | Students $10 | Under 18 Free\nTicket
 s: bluehillbach.org | 207-613-5438
ATTACH;FMTTYPE=image/jpeg:https://bluehillpeninsula.org/wp-content/uploads
 /2026/02/Harpsichord-scaled.jpg
LOCATION:St Francis by the Sea Episcopal Church\, 330 Hinckley Ridge Rd.\, 
 Blue Hill\, ME\, 04616\, United States
GEO:44.4308822;-68.62849140000003
X-APPLE-STRUCTURED-LOCATION;VALUE=URI;X-ADDRESS=330 Hinckley Ridge Rd.\, Bl
 ue Hill\, ME\, 04616\, United States;X-APPLE-RADIUS=100;X-TITLE=St Francis
  by the Sea Episcopal Church:geo:44.4308822,-68.62849140000003
END:VEVENT
BEGIN:VTIMEZONE
TZID:America/New_York
X-LIC-LOCATION:America/New_York
BEGIN:DAYLIGHT
DTSTART:20260308T030000
TZOFFSETFROM:-0500
TZOFFSETTO:-0400
TZNAME:EDT
END:DAYLIGHT
END:VTIMEZONE
END:VCALENDAR