BEGIN:VCALENDAR
VERSION:2.0
PRODID:-//wp-events-plugin.com//7.2.3.1//EN
TZID:America/New_York
X-WR-TIMEZONE:America/New_York
BEGIN:VEVENT
UID:7150@bluehillpeninsula.org
DTSTART;TZID=America/New_York:20251012T160000
DTEND;TZID=America/New_York:20251012T180000
DTSTAMP:20250926T002439Z
URL:https://bluehillpeninsula.org/events/avery-sharpe-concert-i-am-my-neig
 hbors-keeper/
SUMMARY:Avery Sharpe Concert "I Am My Neighbor's Keeper"
DESCRIPTION:Blue Hill’s Congregational Church presents “I Am My Neighbo
 rs Keeper” as the only stop in Maine of Avery Sharpe’s New England tou
 r with his Double Quartet\, on Sunday\, October 12th at 4 p.m.\n\nMr. Shar
 pe on Bass\, Andrew Wilcox on piano\, Yoron Israel on drums\, Tony Vacca o
 n balafon/African percussion\, Sarah Briggs and Kaila Graef on violins\, G
 regory Diehl on viola and Dave Haughey on cello will perform this new work
 .\n\nMr. Sharp composed this work to highlight our commitment to one anoth
 er. The U.S political climate changed drastically in the past 40 plus year
 s.  In this age of greed\, as Avery refers to as "IGM" (I Got Mine)\, basi
 c human compassion has been eroded.\n\nHe saw the need to remind people th
 at each of us is here on this planet for a very short period of time. It d
 oesn't matter if one has a religious or a secular approach\, it all comes 
 down to concern and compassion for each other. It is Avery’s hope and mi
 ssion as an artist to remind everyone that we all are interconnected\, and
  "We Are Our Neighbors Keeper".\n\nTickets are available at the door for $
 20/adults and $12/students.  If the price of entry is prohibitive\, please
  reach out to Pastor Lisa at pastor@bluehillcongregational.org \n\nFor mor
 e information\, visit Facebook page or website: bluehillcongregational.org
  \n
ATTACH;FMTTYPE=image/jpeg:https://bluehillpeninsula.org/wp-content/uploads
 /2025/09/Avery-Sharpe-11resized.jpg
LOCATION:First Congregational Church of Blue Hill\, 22 Tenney Hill\, Blue H
 ill\, Maine\, 04614\, United States
X-APPLE-STRUCTURED-LOCATION;VALUE=URI;X-ADDRESS=22 Tenney Hill\, Blue Hill\
 , Maine\, 04614\, United States;X-APPLE-RADIUS=100;X-TITLE=First Congregat
 ional Church of Blue Hill:geo:0,0
END:VEVENT
BEGIN:VTIMEZONE
TZID:America/New_York
X-LIC-LOCATION:America/New_York
BEGIN:DAYLIGHT
DTSTART:20250309T030000
TZOFFSETFROM:-0500
TZOFFSETTO:-0400
TZNAME:EDT
END:DAYLIGHT
END:VTIMEZONE
END:VCALENDAR