BEGIN:VCALENDAR
VERSION:2.0
PRODID:-//wp-events-plugin.com//7.2.3.1//EN
TZID:America/New_York
X-WR-TIMEZONE:America/New_York
BEGIN:VEVENT
UID:2086@bluehillpeninsula.org
DTSTART;TZID=America/New_York:20180802T190000
DTEND;TZID=America/New_York:20180802T210000
DTSTAMP:20180723T133405Z
URL:https://bluehillpeninsula.org/events/author-event-peaceful-parent/
SUMMARY:Author Event: Peaceful Parent
DESCRIPTION:Dr. Laura Markham will talk about her series of books\, Peacefu
 l Parent\, including the most recent Peaceful Parent\, Happy Kids Workbook
 : Using Mindfulness and Connection to Raise Resilient\, Joyful Children an
 d Rediscover your Love of Parenting\, at the Blue Hill Public Library on T
 hursday\, August 2\, at 7:00 PM.\n\nDr. Laura Markham has a PhD in clinica
 l psychology from Columbia University\, which\, she says\, was just the be
 ginning of her education as a psychologist. Becoming a mother convinced he
 r that parents are doing the hardest job in the world. Her children are no
 w 26 and 22\, and she talks about her experiences with them to illustrate 
 how parents can raise self-disciplined\, responsible\, considerate\, happy
  kids -- without punishment. She says her aspiration is to change the worl
 d\, one child at a time -- by supporting parents.\n\nDr. Markham is the fo
 unding editor of AhaParenting.com\, a website for parents of babies throug
 h teens. She makes frequent TV and radio appearances and has been featured
  in many publications from Parents Magazine to The Wall Street Journal. Sh
 e reaches a world-wide audience with her online parenting course\, and ove
 r 130\,000 parents subscribe to her blog posts via email\; many more follo
 w her on Facebook\, Twitter and Instagram.\n\nBooks will be available for 
 sale and signing. This event is sponsored by the library\, there is no cha
 rge\, and everyone is welcome. For more information\, call the library at 
 374-5515.
LOCATION:Blue Hill Public Library\, 5 Parker Point Rd\, Blue Hill\, ME\, 04
 614\, United States
GEO:44.4118843;-68.5900689
X-APPLE-STRUCTURED-LOCATION;VALUE=URI;X-ADDRESS=5 Parker Point Rd\, Blue Hi
 ll\, ME\, 04614\, United States;X-APPLE-RADIUS=100;X-TITLE=Blue Hill Publi
 c Library:geo:44.4118843,-68.5900689
END:VEVENT
BEGIN:VTIMEZONE
TZID:America/New_York
X-LIC-LOCATION:America/New_York
BEGIN:DAYLIGHT
DTSTART:20180311T030000
TZOFFSETFROM:-0500
TZOFFSETTO:-0400
TZNAME:EDT
END:DAYLIGHT
END:VTIMEZONE
END:VCALENDAR