BEGIN:VCALENDAR
VERSION:2.0
PRODID:-//wp-events-plugin.com//7.2.3.1//EN
TZID:America/New_York
X-WR-TIMEZONE:America/New_York
BEGIN:VEVENT
UID:1223@bluehillpeninsula.org
DTSTART;TZID=America/New_York:20180112T190000
DTEND;TZID=America/New_York:20180112T203000
DTSTAMP:20180103T144525Z
URL:https://bluehillpeninsula.org/events/attu-the-holy-grail-of-north-amer
 ican-birding/
SUMMARY:Attu: The Holy Grail of North American Birding
DESCRIPTION:Attu in the Aleutian Islands\, the westernmost point in the Uni
 ted States located\n1500 miles from mainland Alaska\, is known worldwide a
 s a birding mecca. It\nfeatured prominently in the hit movie “The Big Ye
 ar\,” and it was the target\ndestination for an intrepid group of five M
 aine birders in the spring of 2012. Doug\nHitchcox\, Maine Audubon’s sta
 ff naturalist\, will present a travelogue of photos and\nstories that docu
 ment his amazing birding adventure into the Eastern Hemisphere\,\nhighligh
 ted by rare species\, colonies of over two million birds\, Song Sparrows t
 he\nsize of robins\, enduring 20-foot (and higher!) seas en route and a bi
 rd that only\nrecently rebounded from the edge of extinction.
LOCATION:Moore School Community Center\, 2nd Floor\, 5 General Moore Way\, 
 Ellsworth\, ME\, 04614\, United States
GEO:40.48930439999999;-78.0151315
X-APPLE-STRUCTURED-LOCATION;VALUE=URI;X-ADDRESS=2nd Floor\, 5 General Moore
  Way\, Ellsworth\, ME\, 04614\, United States;X-APPLE-RADIUS=100;X-TITLE=M
 oore School Community Center:geo:40.48930439999999,-78.0151315
END:VEVENT
BEGIN:VTIMEZONE
TZID:America/New_York
X-LIC-LOCATION:America/New_York
BEGIN:STANDARD
DTSTART:20171105T010000
TZOFFSETFROM:-0400
TZOFFSETTO:-0500
TZNAME:EST
END:STANDARD
END:VTIMEZONE
END:VCALENDAR