BEGIN:VCALENDAR
VERSION:2.0
PRODID:-//wp-events-plugin.com//7.2.3.1//EN
TZID:America/New_York
X-WR-TIMEZONE:America/New_York
BEGIN:VEVENT
UID:16@bluehillpeninsula.org
DTSTART;TZID=America/New_York:20150716T190000
DTEND;TZID=America/New_York:20150719T190000
DTSTAMP:20150507T151929Z
URL:https://bluehillpeninsula.org/events/anton-chekhovs-the-seagull/
SUMMARY:Anton Chekhov's "The Seagull"
DESCRIPTION:
LOCATION:Stonington Opera House\, 1 Opera House Lane\, Stonington\, Maine\,
  04681\, United States
GEO:44.156192;-68.66669259999998
X-APPLE-STRUCTURED-LOCATION;VALUE=URI;X-ADDRESS=1 Opera House Lane\, Stonin
 gton\, Maine\, 04681\, United States;X-APPLE-RADIUS=100;X-TITLE=Stonington
  Opera House:geo:44.156192,-68.66669259999998
END:VEVENT
BEGIN:VTIMEZONE
TZID:America/New_York
X-LIC-LOCATION:America/New_York
BEGIN:DAYLIGHT
DTSTART:20150308T030000
TZOFFSETFROM:-0500
TZOFFSETTO:-0400
TZNAME:EDT
END:DAYLIGHT
END:VTIMEZONE
END:VCALENDAR