BEGIN:VCALENDAR
VERSION:2.0
PRODID:-//wp-events-plugin.com//7.2.3.1//EN
TZID:America/New_York
X-WR-TIMEZONE:America/New_York
BEGIN:VEVENT
UID:6224@bluehillpeninsula.org
DTSTART;TZID=America/New_York:20241206T170000
DTEND;TZID=America/New_York:20241206T200000
DTSTAMP:20241128T025749Z
URL:https://bluehillpeninsula.org/events/annual-pentagoet-party/
SUMMARY:Annual Pentagöet Party
DESCRIPTION:Kick off the holiday season at the Grand Dame on Main Street\, 
 as Matt\, George\, &amp\; Mister host the town for an open wine &amp\; bee
 r bar\, hors d'oeuvres\, and plenty of merriment! The only requirement? Br
 ing one unwrapped toy to donate to their Toys-for-Tots drive. Last year\, 
 Castine was the single largest donation center in Maine\, thanks to your g
 enerosity!
LOCATION:Pentagoet Inn\, 26 Main Street \, Castine\, Maine\, 04421\, United
  States
GEO:44.3881163;-68.79773769999997
X-APPLE-STRUCTURED-LOCATION;VALUE=URI;X-ADDRESS=26 Main Street \, Castine\,
  Maine\, 04421\, United States;X-APPLE-RADIUS=100;X-TITLE=Pentagoet Inn:ge
 o:44.3881163,-68.79773769999997
END:VEVENT
BEGIN:VTIMEZONE
TZID:America/New_York
X-LIC-LOCATION:America/New_York
BEGIN:STANDARD
DTSTART:20241103T010000
TZOFFSETFROM:-0400
TZOFFSETTO:-0500
TZNAME:EST
END:STANDARD
END:VTIMEZONE
END:VCALENDAR