BEGIN:VCALENDAR
VERSION:2.0
PRODID:-//wp-events-plugin.com//7.2.3.1//EN
TZID:America/New_York
X-WR-TIMEZONE:America/New_York
BEGIN:VEVENT
UID:603@bluehillpeninsula.org
DTSTART;TZID=America/New_York:20160824T163000
DTEND;TZID=America/New_York:20160824T193000
DTSTAMP:20160824T145849Z
URL:https://bluehillpeninsula.org/events/annual-community-appreciation-lob
 ster-picnic/
SUMMARY:Blue Hill CoOp's Annual Community Appreciation Lobster Picnic
DESCRIPTION:Join the Blue Hill Co-op at their Annual Community Appreciation
  Lobster Picnic. Lobster dinner with dessert\, veggie/vegan option availab
 le as well as a hot dog meal for the kids. Cash Bar\, Live music\, Kids Ac
 tivities. Fun for the whole family! Meals include corn on the cob\, potato
 es and watermelon.\nTickets must be purchased no later than August 21\nYou
  can buy your tickets online through eventbrite (follow link on the Co-op'
 s facebook page or through their website's events calendar) or eliminate p
 aying the online purchase fee by coming into the Co-op today and buying th
 em at the register.\nPlease retain your ticket for the event.
LOCATION:The Lookout\, 455 Flye Point\, Brooklin\, Maine\, 04616\, United S
 tates
GEO:44.2653797;-68.52901750000001
X-APPLE-STRUCTURED-LOCATION;VALUE=URI;X-ADDRESS=455 Flye Point\, Brooklin\,
  Maine\, 04616\, United States;X-APPLE-RADIUS=100;X-TITLE=The Lookout:geo:
 44.2653797,-68.52901750000001
END:VEVENT
BEGIN:VTIMEZONE
TZID:America/New_York
X-LIC-LOCATION:America/New_York
BEGIN:DAYLIGHT
DTSTART:20160313T030000
TZOFFSETFROM:-0500
TZOFFSETTO:-0400
TZNAME:EDT
END:DAYLIGHT
END:VTIMEZONE
END:VCALENDAR