BEGIN:VCALENDAR
VERSION:2.0
PRODID:-//wp-events-plugin.com//7.2.3.1//EN
TZID:America/New_York
X-WR-TIMEZONE:America/New_York
BEGIN:VEVENT
UID:1852@bluehillpeninsula.org
DTSTART;TZID=America/New_York:20180703T190000
DTEND;TZID=America/New_York:20180703T213000
DTSTAMP:20180524T152216Z
URL:https://bluehillpeninsula.org/events/2018-blue-hill-pops-concert/
SUMMARY:2018 Blue Hill Pops Concert
DESCRIPTION:The 28th annual Blue Hill Pops Concert\, sponsored by the Bagad
 uce Music Lending Library\, will be held on Tuesday\, July 3 at 7:00 pm in
  the George Stevens Academy gymnasium on Union Street in Blue Hill.\n\nA s
 ummer-season tradition in Downeast Maine since 1990\, this year's festival
  of "Sounds Around Blue Hill" will feature Grammy Award winning Maine comp
 oser and pianist Paul Sullivan and gospel and pop singer Teresa Thomasen. 
 Other 2018 Blue Hill Pops performers will include the high energy duo of A
 cadian fidder Gus La Casse and guitarist Peter Lindquist\, the Atlantic Cl
 arion Steel Band\, and the Bagaduce Pops Singers\, under the direction of 
 Bronwyn Kortge.\n\nTable seats\, reserved chairs and bleacher seats are av
 ailable in a range of prices\, beginning at $10. For tickets or further in
 formation please call Cheri Robbins at the Bagaduce Music Lending Library 
 at 374-5454.
ATTACH;FMTTYPE=image/jpeg:https://bluehillpeninsula.org/wp-content/uploads
 /2018/04/Paul-and-Theresa-01-426x640.jpg
LOCATION:George Stevens Academy\, 23 Union St\, Blue Hill\, Maine\, 04614\,
  United States
GEO:44.4131347;-68.58957599999997
X-APPLE-STRUCTURED-LOCATION;VALUE=URI;X-ADDRESS=23 Union St\, Blue Hill\, M
 aine\, 04614\, United States;X-APPLE-RADIUS=100;X-TITLE=George Stevens Aca
 demy:geo:44.4131347,-68.58957599999997
END:VEVENT
BEGIN:VTIMEZONE
TZID:America/New_York
X-LIC-LOCATION:America/New_York
BEGIN:DAYLIGHT
DTSTART:20180311T030000
TZOFFSETFROM:-0500
TZOFFSETTO:-0400
TZNAME:EDT
END:DAYLIGHT
END:VTIMEZONE
END:VCALENDAR